BEGIN:VCALENDAR
VERSION:2.0
PRODID:Sarasota County, FL Calendar Creator
METHOD:PUBLISH
BEGIN:VEVENT
DTSTAMP:20260417T083450
DTSTART:20260520T090000
DTEND:20260520T170000
SUMMARY:Commission Meeting (Budget Workshop)
DESCRIPTION:<p><a href="https://cablecast.scgov.net/CablecastPublicSite/watch-now?site=2">Watch the meeting - LIVE</a></p><p>&nbsp;</p>
X-ALT-DESC;FMTTYPE=text/html:<p><a href="https://cablecast.scgov.net/CablecastPublicSite/watch-now?site=2">Watch the meeting - LIVE</a></p><p>&nbsp;</p>
LOCATION:Robert L. Anderson Administration Center (South)\, 4000 S. Tamiami Trail Venice\, Florida 34293
CLASS:PUBLIC
END:VEVENT
END:VCALENDAR
