BEGIN:VCALENDAR
VERSION:2.0
PRODID:Sarasota County, FL Calendar Creator
METHOD:PUBLISH
BEGIN:VEVENT
DTSTAMP:20260407T082407
DTSTART:20260514T120000
DTEND:20260514T160000
SUMMARY:262824RM Carlton Water Quality Monitoring 1st Evaluation Meeting
DESCRIPTION:<p>&nbsp;Conf Rm BOB 02</p><p>Zoom:</p><p>https://scgov.zoom.us/webinar/register/WN_m70kcvZFTnq6XiEqXHGEJw</p>
X-ALT-DESC;FMTTYPE=text/html:<p>&nbsp;Conf Rm BOB 02</p><p>Zoom:</p><p>https://scgov.zoom.us/webinar/register/WN_m70kcvZFTnq6XiEqXHGEJw</p>
LOCATION:BOB or Sarasota County Operations Center\, 1001 Sarasota Center Blvd. Sarasota\, Florida 34240
CLASS:PUBLIC
END:VEVENT
END:VCALENDAR
