BEGIN:VCALENDAR
VERSION:2.0
PRODID:Sarasota County, FL Calendar Creator
METHOD:PUBLISH
BEGIN:VEVENT
DTSTAMP:20260416T155638
DTSTART:20260611T163000
DTEND:20260611T180000
SUMMARY:Blackburn Point Bridge Third Alternatives Public Meeting
DESCRIPTION:<p>Sarasota County is hosting a public meeting for the Blackburn Point Bridge replacement project on&nbsp;<span style="font-size: 1.125rem;">Thursday, June 11 | 4:30 p.m.— 6 p.m., at the</span><span style="font-size: 1.125rem;">&nbsp;Church of the Holy Spirit, 129 S. Tamiami Trail Osprey, FL 34229</span></p><p><span style="font-size: 1.125rem;">This open house-style meeting is to provide updated information on the design plan options for the project, with a presentation beginning promptly at 5:15 p.m. We will offer a question and answer session immediately following the presentation, and an opportunity to provide feedback.&nbsp;</span><span style="font-size: 1.125rem;">No registration is required for this meeting, and all are welcome to attend.</span></p>
X-ALT-DESC;FMTTYPE=text/html:<p>Sarasota County is hosting a public meeting for the Blackburn Point Bridge replacement project on&nbsp;<span style="font-size: 1.125rem;">Thursday, June 11 | 4:30 p.m.— 6 p.m., at the</span><span style="font-size: 1.125rem;">&nbsp;Church of the Holy Spirit, 129 S. Tamiami Trail Osprey, FL 34229</span></p><p><span style="font-size: 1.125rem;">This open house-style meeting is to provide updated information on the design plan options for the project, with a presentation beginning promptly at 5:15 p.m. We will offer a question and answer session immediately following the presentation, and an opportunity to provide feedback.&nbsp;</span><span style="font-size: 1.125rem;">No registration is required for this meeting, and all are welcome to attend.</span></p>
LOCATION:Church of the Holy Spirit\, 129 S. Tamiami Trail Osprey\, Florida 34229
CLASS:PUBLIC
END:VEVENT
END:VCALENDAR
