BEGIN:VCALENDAR
VERSION:2.0
PRODID:Sarasota County, FL Calendar Creator
METHOD:PUBLISH
BEGIN:VEVENT
DTSTAMP:20260422T151753
DTSTART:20260611T090000
DTEND:20260611T120000
SUMMARY:First Evaluation Meeting - 262849FB Engineering Services for Fixed Span Bridge Rehabilitation, Repair, and Inspection
DESCRIPTION:<p>In Person</p><p>OR</p><p><span style="font-size: 1.125rem;">ZOOM Link:&nbsp;</span><a href="https://scgov.zoom.us/webinar/register/WN_ael8jKPVSC2X8HRUwLqWNw" target="_blank" rel="noopener" style="font-size: 1.125rem;">https://scgov.zoom.us/webinar/register/WN_ael8jKPVSC2X8HRUwLqWNw</a></p>
X-ALT-DESC;FMTTYPE=text/html:<p>In Person</p><p>OR</p><p><span style="font-size: 1.125rem;">ZOOM Link:&nbsp;</span><a href="https://scgov.zoom.us/webinar/register/WN_ael8jKPVSC2X8HRUwLqWNw" target="_blank" rel="noopener" style="font-size: 1.125rem;">https://scgov.zoom.us/webinar/register/WN_ael8jKPVSC2X8HRUwLqWNw</a></p>
LOCATION:Sarasota County Administration Center (North)\, 1 Apex Rd Sarasota\, Florida 34240
CLASS:PUBLIC
END:VEVENT
END:VCALENDAR
