BEGIN:VCALENDAR
VERSION:2.0
PRODID:Sarasota County, FL Calendar Creator
METHOD:PUBLISH
BEGIN:VEVENT
DTSTAMP:20260422T152356
DTSTART:20260625T130000
DTEND:20260625T140000
SUMMARY:Second Evaluation Meeting - 262849FB Engineering Services for Fixed Span Bridge Rehabilitation, Repair, and Inspection
DESCRIPTION:<p>In Person </p><p>OR</p><p>Via ZOOM Link:&nbsp;<a href="https://scgov.zoom.us/webinar/register/WN_6c7B_7TGRPeNLjlroeO0Tw" target="_blank" rel="noopener">https://scgov.zoom.us/webinar/register/WN_6c7B_7TGRPeNLjlroeO0Tw</a></p>
X-ALT-DESC;FMTTYPE=text/html:<p>In Person </p><p>OR</p><p>Via ZOOM Link:&nbsp;<a href="https://scgov.zoom.us/webinar/register/WN_6c7B_7TGRPeNLjlroeO0Tw" target="_blank" rel="noopener">https://scgov.zoom.us/webinar/register/WN_6c7B_7TGRPeNLjlroeO0Tw</a></p>
LOCATION:Sarasota County Administration Center (North)\, 1 Apex Rd Sarasota\, Florida 34240
CLASS:PUBLIC
END:VEVENT
END:VCALENDAR
