BEGIN:VCALENDAR
VERSION:2.0
PRODID:Sarasota County, FL Calendar Creator
METHOD:PUBLISH
BEGIN:VEVENT
DTSTAMP:20260422T151132
DTSTART:20260505T090000
DTEND:20260505T110000
SUMMARY:Non-Mandatory Pre-Bid Meeting 262852FB Intersection Improvements - Winchester Blvd. & South River Road
DESCRIPTION:<p>In Person </p><p>OR</p><p>Via ZOOM Link:&nbsp;&nbsp;</p><p><span style="font-size: 1.125rem;"><a href="https://scgov.zoom.us/webinar/register/WN_k8_hDC6URuqnNUnlnerFqw" target="_blank" rel="noopener">https://scgov.zoom.us/webinar/register/WN_k8_hDC6URuqnNUnlnerFqw</a></span><span style="font-size: 1.125rem;">&nbsp;&nbsp;</span></p>
X-ALT-DESC;FMTTYPE=text/html:<p>In Person </p><p>OR</p><p>Via ZOOM Link:&nbsp;&nbsp;</p><p><span style="font-size: 1.125rem;"><a href="https://scgov.zoom.us/webinar/register/WN_k8_hDC6URuqnNUnlnerFqw" target="_blank" rel="noopener">https://scgov.zoom.us/webinar/register/WN_k8_hDC6URuqnNUnlnerFqw</a></span><span style="font-size: 1.125rem;">&nbsp;&nbsp;</span></p>
LOCATION:BOB or Sarasota County Operations Center\, 1001 Sarasota Center Blvd. Sarasota\, Florida 34240
CLASS:PUBLIC
END:VEVENT
END:VCALENDAR
