BEGIN:VCALENDAR
VERSION:2.0
PRODID:Sarasota County, FL Calendar Creator
METHOD:PUBLISH
BEGIN:VEVENT
DTSTAMP:20260423T112417
DTSTART:20260630T090000
DTEND:20260630T120000
SUMMARY:262865CG Siesta Key Community Master Plan
DESCRIPTION:<p><span style="font-size: 1.125rem;">Zoom:</span></p><p>https://scgov.zoom.us/j/87603077713?pwd=UlAwZvh41u0cxErX2Omuf6E5GH3PK4.1</p><p>&nbsp;</p><br>
X-ALT-DESC;FMTTYPE=text/html:<p><span style="font-size: 1.125rem;">Zoom:</span></p><p>https://scgov.zoom.us/j/87603077713?pwd=UlAwZvh41u0cxErX2Omuf6E5GH3PK4.1</p><p>&nbsp;</p><br>
LOCATION:Resilient SRQ\, 301 N Cattlemen Rd\, Suite 200 Sarasota\, Florida 34232
CLASS:PUBLIC
END:VEVENT
END:VCALENDAR
